BEGIN:VCALENDAR
VERSION:2.0
PRODID:-//Saint Jean de Tholome - ECPv6.15.20//NONSGML v1.0//EN
CALSCALE:GREGORIAN
METHOD:PUBLISH
X-WR-CALNAME:Saint Jean de Tholome
X-ORIGINAL-URL:https://www.tholome.fr
X-WR-CALDESC:Évènements pour Saint Jean de Tholome
REFRESH-INTERVAL;VALUE=DURATION:PT1H
X-Robots-Tag:noindex
X-PUBLISHED-TTL:PT1H
BEGIN:VTIMEZONE
TZID:Europe/Paris
BEGIN:DAYLIGHT
TZOFFSETFROM:+0100
TZOFFSETTO:+0200
TZNAME:CEST
DTSTART:20220327T010000
END:DAYLIGHT
BEGIN:STANDARD
TZOFFSETFROM:+0200
TZOFFSETTO:+0100
TZNAME:CET
DTSTART:20221030T010000
END:STANDARD
BEGIN:DAYLIGHT
TZOFFSETFROM:+0100
TZOFFSETTO:+0200
TZNAME:CEST
DTSTART:20230326T010000
END:DAYLIGHT
BEGIN:STANDARD
TZOFFSETFROM:+0200
TZOFFSETTO:+0100
TZNAME:CET
DTSTART:20231029T010000
END:STANDARD
BEGIN:DAYLIGHT
TZOFFSETFROM:+0100
TZOFFSETTO:+0200
TZNAME:CEST
DTSTART:20240331T010000
END:DAYLIGHT
BEGIN:STANDARD
TZOFFSETFROM:+0200
TZOFFSETTO:+0100
TZNAME:CET
DTSTART:20241027T010000
END:STANDARD
END:VTIMEZONE
BEGIN:VEVENT
DTSTART;TZID=Europe/Paris:20231006T193000
DTEND;TZID=Europe/Paris:20231006T193000
DTSTAMP:20260426T003737
CREATED:20230928T062246Z
LAST-MODIFIED:20230928T062501Z
UID:5538-1696620600-1696620600@www.tholome.fr
SUMMARY:Réunion publique - Résultats de la consultation citoyenne
DESCRIPTION:
URL:https://www.tholome.fr/event/reunion-publique-resultats-de-la-consultation-citoyenne/
LOCATION:Salle de motricité
CATEGORIES:Réunion / Atelier public
END:VEVENT
END:VCALENDAR