BEGIN:VCALENDAR
VERSION:2.0
PRODID:-//Saint Jean de Tholome - ECPv6.15.20//NONSGML v1.0//EN
CALSCALE:GREGORIAN
METHOD:PUBLISH
X-WR-CALNAME:Saint Jean de Tholome
X-ORIGINAL-URL:https://www.tholome.fr
X-WR-CALDESC:Évènements pour Saint Jean de Tholome
REFRESH-INTERVAL;VALUE=DURATION:PT1H
X-Robots-Tag:noindex
X-PUBLISHED-TTL:PT1H
BEGIN:VTIMEZONE
TZID:Europe/Paris
BEGIN:DAYLIGHT
TZOFFSETFROM:+0100
TZOFFSETTO:+0200
TZNAME:CEST
DTSTART:20230326T010000
END:DAYLIGHT
BEGIN:STANDARD
TZOFFSETFROM:+0200
TZOFFSETTO:+0100
TZNAME:CET
DTSTART:20231029T010000
END:STANDARD
BEGIN:DAYLIGHT
TZOFFSETFROM:+0100
TZOFFSETTO:+0200
TZNAME:CEST
DTSTART:20240331T010000
END:DAYLIGHT
BEGIN:STANDARD
TZOFFSETFROM:+0200
TZOFFSETTO:+0100
TZNAME:CET
DTSTART:20241027T010000
END:STANDARD
BEGIN:DAYLIGHT
TZOFFSETFROM:+0100
TZOFFSETTO:+0200
TZNAME:CEST
DTSTART:20250330T010000
END:DAYLIGHT
BEGIN:STANDARD
TZOFFSETFROM:+0200
TZOFFSETTO:+0100
TZNAME:CET
DTSTART:20251026T010000
END:STANDARD
END:VTIMEZONE
BEGIN:VEVENT
DTSTART;TZID=Europe/Paris:20241011T200000
DTEND;TZID=Europe/Paris:20241011T213000
DTSTAMP:20260425T182949
CREATED:20240924T073048Z
LAST-MODIFIED:20240924T073048Z
UID:6054-1728676800-1728682200@www.tholome.fr
SUMMARY:conférence à la parentalité dont le thème est « Cerveau & Apprentissage » chez l’enfant
DESCRIPTION:En ce début d’année scolaire\, le Sou des Ecoles de Ville-en-Sallaz vous propose une conférence à la parentalité dont le thème est « Cerveau & Apprentissage » chez l’enfant. \nTransmettre ses savoirs\, accompagner aux devoirs : Comment mettre l’apprenant dans de bonnes conditions ? Comment le captiver\, l’encourager\, lui donner envie de se dépasser ? Et si on allait voir comment fonctionne notre cerveau pour mieux adapter notre façon de faire ! \nAmandine VENTADOUR\, consultante en parentalité\, nous explique tout le vendredi 11 octobre à 20h à la salle Vittoz\, route des jonquilles 74250 Ville-en-Sallaz. \nUn temps libre de discussion autour d’un verre et de mises en bouche vous sera proposé à l’issue de la conférence. \nParticipation libre. \nAffiche Conférence Cerveau & Apprentissage
URL:https://www.tholome.fr/event/conference-a-la-parentalite-dont-le-theme-est-cerveau-apprentissage-chez-lenfant/
CATEGORIES:Evènement associatif
END:VEVENT
END:VCALENDAR