BEGIN:VCALENDAR
VERSION:2.0
PRODID:-//Saint Jean de Tholome - ECPv6.15.20//NONSGML v1.0//EN
CALSCALE:GREGORIAN
METHOD:PUBLISH
X-WR-CALNAME:Saint Jean de Tholome
X-ORIGINAL-URL:https://www.tholome.fr
X-WR-CALDESC:Évènements pour Saint Jean de Tholome
REFRESH-INTERVAL;VALUE=DURATION:PT1H
X-Robots-Tag:noindex
X-PUBLISHED-TTL:PT1H
BEGIN:VTIMEZONE
TZID:Europe/Paris
BEGIN:DAYLIGHT
TZOFFSETFROM:+0100
TZOFFSETTO:+0200
TZNAME:CEST
DTSTART:20230326T010000
END:DAYLIGHT
BEGIN:STANDARD
TZOFFSETFROM:+0200
TZOFFSETTO:+0100
TZNAME:CET
DTSTART:20231029T010000
END:STANDARD
BEGIN:DAYLIGHT
TZOFFSETFROM:+0100
TZOFFSETTO:+0200
TZNAME:CEST
DTSTART:20240331T010000
END:DAYLIGHT
BEGIN:STANDARD
TZOFFSETFROM:+0200
TZOFFSETTO:+0100
TZNAME:CET
DTSTART:20241027T010000
END:STANDARD
BEGIN:DAYLIGHT
TZOFFSETFROM:+0100
TZOFFSETTO:+0200
TZNAME:CEST
DTSTART:20250330T010000
END:DAYLIGHT
BEGIN:STANDARD
TZOFFSETFROM:+0200
TZOFFSETTO:+0100
TZNAME:CET
DTSTART:20251026T010000
END:STANDARD
END:VTIMEZONE
BEGIN:VEVENT
DTSTART;TZID=Europe/Paris:20240312T193000
DTEND;TZID=Europe/Paris:20240312T213000
DTSTAMP:20260426T025620
CREATED:20231130T083253Z
LAST-MODIFIED:20231130T083253Z
UID:5594-1710271800-1710279000@www.tholome.fr
SUMMARY:Aux Fils d'Art Jean - Atelier couture libre
DESCRIPTION:
URL:https://www.tholome.fr/event/aux-fils-dart-jean-atelier-couture-libre-20/
LOCATION:Salle Aux Fils d’art Jean
CATEGORIES:Evènement associatif
END:VEVENT
BEGIN:VEVENT
DTSTART;TZID=Europe/Paris:20240323T100000
DTEND;TZID=Europe/Paris:20240323T120000
DTSTAMP:20260426T025620
CREATED:20231130T083751Z
LAST-MODIFIED:20231130T083751Z
UID:5612-1711188000-1711195200@www.tholome.fr
SUMMARY:Aux Fils d'Art Jean - Atelier de Pâques
DESCRIPTION:
URL:https://www.tholome.fr/event/aux-fils-dart-jean-atelier-de-paques/
LOCATION:Salle Aux Fils d’art Jean
CATEGORIES:Evènement associatif
END:VEVENT
BEGIN:VEVENT
DTSTART;TZID=Europe/Paris:20240326T193000
DTEND;TZID=Europe/Paris:20240326T213000
DTSTAMP:20260426T025620
CREATED:20231130T083314Z
LAST-MODIFIED:20231130T083314Z
UID:5596-1711481400-1711488600@www.tholome.fr
SUMMARY:Aux Fils d'Art Jean - Atelier couture libre
DESCRIPTION:
URL:https://www.tholome.fr/event/aux-fils-dart-jean-atelier-couture-libre-21/
LOCATION:Salle Aux Fils d’art Jean
CATEGORIES:Evènement associatif
END:VEVENT
END:VCALENDAR