BEGIN:VCALENDAR
VERSION:2.0
PRODID:-//Saint Jean de Tholome - ECPv6.15.20//NONSGML v1.0//EN
CALSCALE:GREGORIAN
METHOD:PUBLISH
X-ORIGINAL-URL:https://www.tholome.fr
X-WR-CALDESC:Évènements pour Saint Jean de Tholome
REFRESH-INTERVAL;VALUE=DURATION:PT1H
X-Robots-Tag:noindex
X-PUBLISHED-TTL:PT1H
BEGIN:VTIMEZONE
TZID:Europe/Paris
BEGIN:DAYLIGHT
TZOFFSETFROM:+0100
TZOFFSETTO:+0200
TZNAME:CEST
DTSTART:20230326T010000
END:DAYLIGHT
BEGIN:STANDARD
TZOFFSETFROM:+0200
TZOFFSETTO:+0100
TZNAME:CET
DTSTART:20231029T010000
END:STANDARD
BEGIN:DAYLIGHT
TZOFFSETFROM:+0100
TZOFFSETTO:+0200
TZNAME:CEST
DTSTART:20240331T010000
END:DAYLIGHT
BEGIN:STANDARD
TZOFFSETFROM:+0200
TZOFFSETTO:+0100
TZNAME:CET
DTSTART:20241027T010000
END:STANDARD
BEGIN:DAYLIGHT
TZOFFSETFROM:+0100
TZOFFSETTO:+0200
TZNAME:CEST
DTSTART:20250330T010000
END:DAYLIGHT
BEGIN:STANDARD
TZOFFSETFROM:+0200
TZOFFSETTO:+0100
TZNAME:CET
DTSTART:20251026T010000
END:STANDARD
END:VTIMEZONE
BEGIN:VEVENT
DTSTART;TZID=Europe/Paris:20240203T170000
DTEND;TZID=Europe/Paris:20240203T220000
DTSTAMP:20260426T045505
CREATED:20240126T142701Z
LAST-MODIFIED:20240129T143523Z
UID:5696-1706979600-1706997600@www.tholome.fr
SUMMARY:CMJ / Le Pré aux livres - Soirée jeux
DESCRIPTION:soirée jeux 2024
URL:https://www.tholome.fr/event/cmj-la-pre-aux-livres-soiree-jeux/
LOCATION:Salle de motricité
CATEGORIES:Evènement associatif
END:VEVENT
BEGIN:VEVENT
DTSTART;TZID=Europe/Paris:20240210T100000
DTEND;TZID=Europe/Paris:20240210T120000
DTSTAMP:20260426T045505
CREATED:20231130T083702Z
LAST-MODIFIED:20231130T083702Z
UID:5610-1707559200-1707566400@www.tholome.fr
SUMMARY:Aux Fils d'Art Jean - Atelier Coeurs
DESCRIPTION:
URL:https://www.tholome.fr/event/aux-fils-dart-jean-atelier-coeurs/
LOCATION:Salle Aux Fils d’art Jean
CATEGORIES:Evènement associatif
END:VEVENT
BEGIN:VEVENT
DTSTART;TZID=Europe/Paris:20240210T100000
DTEND;TZID=Europe/Paris:20240210T120000
DTSTAMP:20260426T045505
CREATED:20240209T075700Z
LAST-MODIFIED:20240209T075700Z
UID:5751-1707559200-1707566400@www.tholome.fr
SUMMARY:Association SEL - Réunion
DESCRIPTION:Affiche SEL Réunion 10.02.24
URL:https://www.tholome.fr/event/association-sel-reunion/
LOCATION:Salle de motricité
CATEGORIES:Evènement associatif
END:VEVENT
BEGIN:VEVENT
DTSTART;TZID=Europe/Paris:20240213T193000
DTEND;TZID=Europe/Paris:20240213T213000
DTSTAMP:20260426T045505
CREATED:20231130T083231Z
LAST-MODIFIED:20231130T083231Z
UID:5592-1707852600-1707859800@www.tholome.fr
SUMMARY:Aux Fils d'Art Jean - Atelier couture libre
DESCRIPTION:
URL:https://www.tholome.fr/event/aux-fils-dart-jean-atelier-couture-libre-19/
LOCATION:Salle Aux Fils d’art Jean
CATEGORIES:Evènement associatif
END:VEVENT
END:VCALENDAR