BEGIN:VCALENDAR
VERSION:2.0
PRODID:-//Saint Jean de Tholome - ECPv6.15.20//NONSGML v1.0//EN
CALSCALE:GREGORIAN
METHOD:PUBLISH
X-WR-CALNAME:Saint Jean de Tholome
X-ORIGINAL-URL:https://www.tholome.fr
X-WR-CALDESC:Évènements pour Saint Jean de Tholome
REFRESH-INTERVAL;VALUE=DURATION:PT1H
X-Robots-Tag:noindex
X-PUBLISHED-TTL:PT1H
BEGIN:VTIMEZONE
TZID:Europe/Paris
BEGIN:DAYLIGHT
TZOFFSETFROM:+0100
TZOFFSETTO:+0200
TZNAME:CEST
DTSTART:20230326T010000
END:DAYLIGHT
BEGIN:STANDARD
TZOFFSETFROM:+0200
TZOFFSETTO:+0100
TZNAME:CET
DTSTART:20231029T010000
END:STANDARD
BEGIN:DAYLIGHT
TZOFFSETFROM:+0100
TZOFFSETTO:+0200
TZNAME:CEST
DTSTART:20240331T010000
END:DAYLIGHT
BEGIN:STANDARD
TZOFFSETFROM:+0200
TZOFFSETTO:+0100
TZNAME:CET
DTSTART:20241027T010000
END:STANDARD
BEGIN:DAYLIGHT
TZOFFSETFROM:+0100
TZOFFSETTO:+0200
TZNAME:CEST
DTSTART:20250330T010000
END:DAYLIGHT
BEGIN:STANDARD
TZOFFSETFROM:+0200
TZOFFSETTO:+0100
TZNAME:CET
DTSTART:20251026T010000
END:STANDARD
END:VTIMEZONE
BEGIN:VEVENT
DTSTART;TZID=Europe/Paris:20241203T200000
DTEND;TZID=Europe/Paris:20241203T230000
DTSTAMP:20260422T204107
CREATED:20240916T091535Z
LAST-MODIFIED:20241125T144614Z
UID:6002-1733256000-1733266800@www.tholome.fr
SUMMARY:Conseil municipal
DESCRIPTION:Conseil municipal. \nSéance publique\, tous le monde peux y assister\, prise de parole non autorisée. \n20h salle Grand-Château\, entrée à côté de celle de la mairie. \nProgramme de la séance affichée sur affichage mairie 1 semaine avant la séance.
URL:https://www.tholome.fr/event/conseil-municipal-24/
CATEGORIES:Conseil municipal
END:VEVENT
END:VCALENDAR