BEGIN:VCALENDAR
VERSION:2.0
PRODID:-//Saint Jean de Tholome - ECPv6.15.20//NONSGML v1.0//EN
CALSCALE:GREGORIAN
METHOD:PUBLISH
X-ORIGINAL-URL:https://www.tholome.fr
X-WR-CALDESC:Évènements pour Saint Jean de Tholome
REFRESH-INTERVAL;VALUE=DURATION:PT1H
X-Robots-Tag:noindex
X-PUBLISHED-TTL:PT1H
BEGIN:VTIMEZONE
TZID:Europe/Paris
BEGIN:DAYLIGHT
TZOFFSETFROM:+0100
TZOFFSETTO:+0200
TZNAME:CEST
DTSTART:20250330T010000
END:DAYLIGHT
BEGIN:STANDARD
TZOFFSETFROM:+0200
TZOFFSETTO:+0100
TZNAME:CET
DTSTART:20251026T010000
END:STANDARD
BEGIN:DAYLIGHT
TZOFFSETFROM:+0100
TZOFFSETTO:+0200
TZNAME:CEST
DTSTART:20260329T010000
END:DAYLIGHT
BEGIN:STANDARD
TZOFFSETFROM:+0200
TZOFFSETTO:+0100
TZNAME:CET
DTSTART:20261025T010000
END:STANDARD
BEGIN:DAYLIGHT
TZOFFSETFROM:+0100
TZOFFSETTO:+0200
TZNAME:CEST
DTSTART:20270328T010000
END:DAYLIGHT
BEGIN:STANDARD
TZOFFSETFROM:+0200
TZOFFSETTO:+0100
TZNAME:CET
DTSTART:20271031T010000
END:STANDARD
END:VTIMEZONE
BEGIN:VEVENT
DTSTART;TZID=Europe/Paris:20260508T113000
DTEND;TZID=Europe/Paris:20260508T130000
DTSTAMP:20260420T013807
CREATED:20260419T141052Z
LAST-MODIFIED:20260419T141256Z
UID:6612-1778239800-1778245200@www.tholome.fr
SUMMARY:Commémoration de la victoire de 1945
DESCRIPTION:
URL:https://www.tholome.fr/event/commemoration-de-la-victoire-de-1945/
LOCATION:Chef Lieu
CATEGORIES:Cérémonie
ATTACH;FMTTYPE=image/png:https://www.tholome.fr/wp-content/uploads/2026/04/8mai.png
END:VEVENT
END:VCALENDAR