BEGIN:VCALENDAR
VERSION:2.0
PRODID:-//Saint Jean de Tholome - ECPv6.15.20//NONSGML v1.0//EN
CALSCALE:GREGORIAN
METHOD:PUBLISH
X-WR-CALNAME:Saint Jean de Tholome
X-ORIGINAL-URL:https://www.tholome.fr
X-WR-CALDESC:Évènements pour Saint Jean de Tholome
REFRESH-INTERVAL;VALUE=DURATION:PT1H
X-Robots-Tag:noindex
X-PUBLISHED-TTL:PT1H
BEGIN:VTIMEZONE
TZID:Europe/Paris
BEGIN:DAYLIGHT
TZOFFSETFROM:+0100
TZOFFSETTO:+0200
TZNAME:CEST
DTSTART:20240331T010000
END:DAYLIGHT
BEGIN:STANDARD
TZOFFSETFROM:+0200
TZOFFSETTO:+0100
TZNAME:CET
DTSTART:20241027T010000
END:STANDARD
BEGIN:DAYLIGHT
TZOFFSETFROM:+0100
TZOFFSETTO:+0200
TZNAME:CEST
DTSTART:20250330T010000
END:DAYLIGHT
BEGIN:STANDARD
TZOFFSETFROM:+0200
TZOFFSETTO:+0100
TZNAME:CET
DTSTART:20251026T010000
END:STANDARD
BEGIN:DAYLIGHT
TZOFFSETFROM:+0100
TZOFFSETTO:+0200
TZNAME:CEST
DTSTART:20260329T010000
END:DAYLIGHT
BEGIN:STANDARD
TZOFFSETFROM:+0200
TZOFFSETTO:+0100
TZNAME:CET
DTSTART:20261025T010000
END:STANDARD
END:VTIMEZONE
BEGIN:VEVENT
DTSTART;TZID=Europe/Paris:20251111T110000
DTEND;TZID=Europe/Paris:20251111T120000
DTSTAMP:20260420T075846
CREATED:20251020T144627Z
LAST-MODIFIED:20251020T144627Z
UID:6433-1762858800-1762862400@www.tholome.fr
SUMMARY:Commémoration du 11 Novembre
DESCRIPTION:Madame le Maire et l’ensemble des Elus du Conseil Municipal de Saint-Jean-de-Tholome\nont le plaisir de vous faire part de l’invitation à\nla cérémonie de commémoration du 11 novembre\nqui aura lieu devant le monument aux morts\, en contrebas de la mairie\,\nà partir de 11h00.
URL:https://www.tholome.fr/event/commemoration-du-11-novembre/
LOCATION:Monument aux morts\, impasse de l'Alpestre
CATEGORIES:Cérémonie
ORGANIZER;CN="Mairie":MAILTO:mairie@tholome.fr
END:VEVENT
END:VCALENDAR